BEGIN:VCALENDAR
VERSION:2.0
PRODID:-//wp-events-plugin.com//6.6.4.4//EN
BEGIN:VEVENT
UID:49@anthonyjacksrestaurant.com
DTSTART;TZID=America/New_York;VALUE=DATE:20250501
DTEND;TZID=America/New_York;VALUE=DATE:20260601
DTSTAMP:20250608T150355Z
URL:https://www.anthonyjacksrestaurant.com/events/new-family-style-menu-it
 ems-starting-mon-4-20/
SUMMARY:AJ's FAMILY STYLE MENU
DESCRIPTION:[vc_row content_placement="top"][vc_column][vc_column_text]\n\n
 \n** NOTE - OUR FAMILY STYLE MEAL PRICES HAVE CHANGED **\n\nAnthony Jacks 
 was pleased to have started serving our family style menu items during COV
 ID and have continued them since.\n\nOur family style meal will feed a fam
 ily of 4 for only $49.95.  All meals come with a garden salad &amp\; brea
 d/butter.\n\nServing Wednesday - Sunday:\nCranberry Chicken with yukon gol
 d mashed potatoes and vegetable.\n\n\n[/vc_column_text][vc_single_image im
 age="6413" img_size="full"][/vc_column][/vc_row][vc_row][vc_column][vc_col
 umn_text]\n\nWHERE WE ARE\n\n[/vc_column_text][vc_gmaps link="#E-8_JTNDaWZ
 yYW1lJTIwc3JjJTNEJTIyaHR0cHMlM0ElMkYlMkZ3d3cuZ29vZ2xlLmNvbSUyRm1hcHMlMkZlb
 WJlZCUzRnBiJTNEJTIxMW0xOCUyMTFtMTIlMjExbTMlMjExZDI5ODMuNTAzNzE2MzExMDU5JTI
 xMmQtNzIuODgxNTg3OTIzNDA4ODIlMjEzZDQxLjYwMTYxNzk4MjY3ODg0NiUyMTJtMyUyMTFmM
 CUyMTJmMCUyMTNmMCUyMTNtMiUyMTFpMTAyNCUyMTJpNzY4JTIxNGYxMy4xJTIxM20zJTIxMW0
 yJTIxMXMweDg5ZTdiNzk5YzdmYjA0OTklMjUzQTB4NzI2OTA1YjU1OGE4MjE3ZCUyMTJzQW50a
 G9ueSUyNTIwSmFja3MlMjUyMFdvb2QlMjUyMEZpcmVkJTI1MjBHcmlsbCUyMTVlMCUyMTNtMiU
 yMTFzZW4lMjEyc3VzJTIxNHYxNzQ5MzkxNDI3OTA4JTIxNW0yJTIxMXNlbiUyMTJzdXMlMjIlM
 jB3aWR0aCUzRCUyMjYwMCUyMiUyMGhlaWdodCUzRCUyMjQ1MCUyMiUyMHN0eWxlJTNEJTIyYm9
 yZGVyJTNBMCUzQiUyMiUyMGFsbG93ZnVsbHNjcmVlbiUzRCUyMiUyMiUyMGxvYWRpbmclM0QlM
 jJsYXp5JTIyJTIwcmVmZXJyZXJwb2xpY3klM0QlMjJuby1yZWZlcnJlci13aGVuLWRvd25ncmF
 kZSUyMiUzRSUzQyUyRmlmcmFtZSUzRQ==" size=""][/vc_column][/vc_row]
CATEGORIES:Family Style
LOCATION:Anthony Jacks Wood Fired Grill\, 30 Center St\, Southington\, CT\,
  06489\, United States
GEO:41.601614;-72.87903499999999
X-APPLE-STRUCTURED-LOCATION;VALUE=URI;X-ADDRESS=30 Center St\, Southington\
 , CT\, 06489\, United States;X-APPLE-RADIUS=100;X-TITLE=Anthony Jacks Wood
  Fired Grill:geo:41.601614,-72.87903499999999
END:VEVENT
BEGIN:VTIMEZONE
TZID:America/New_York
X-LIC-LOCATION:America/New_York
BEGIN:DAYLIGHT
DTSTART:20250309T030000
TZOFFSETFROM:-0500
TZOFFSETTO:-0400
TZNAME:EDT
END:DAYLIGHT
BEGIN:STANDARD
DTSTART:20251102T010000
TZOFFSETFROM:-0400
TZOFFSETTO:-0500
TZNAME:EST
END:STANDARD
BEGIN:DAYLIGHT
DTSTART:20260308T030000
TZOFFSETFROM:-0500
TZOFFSETTO:-0400
TZNAME:EDT
END:DAYLIGHT
END:VTIMEZONE
END:VCALENDAR